BEGIN:VCALENDAR
VERSION:2.0
PRODID:-//ChamberMaster//Event Calendar 2.0//EN
METHOD:PUBLISH
X-PUBLISHED-TTL:P3D
REFRESH-INTERVAL:P3D
CALSCALE:GREGORIAN
BEGIN:VEVENT
DTSTART:20240228T130000Z
DTEND:20240228T220000Z
X-MICROSOFT-CDO-ALLDAYEVENT:FALSE
SUMMARY:2024 Asphalt Paving Conference
DESCRIPTION:
X-ALT-DESC;FMTTYPE=text/html:
LOCATION:Embassy Suites by Hilton Charleston 300 Court St\, Charleston\, WV 25301 Phone: (304) 347-8700
UID:e.9670.2
SEQUENCE:3
DTSTAMP:20260421T193953Z
URL:https://members.asphaltwv.com/events/details/2024-asphalt-paving-conference-2
END:VEVENT

END:VCALENDAR
